BEGIN:VCALENDAR
VERSION:2.0
PRODID:-// - ECPv6.13.2//NONSGML v1.0//EN
CALSCALE:GREGORIAN
METHOD:PUBLISH
X-ORIGINAL-URL:https://kulturmoehre.de
X-WR-CALDESC:Veranstaltungen für 
REFRESH-INTERVAL;VALUE=DURATION:PT1H
X-Robots-Tag:noindex
X-PUBLISHED-TTL:PT1H
BEGIN:VTIMEZONE
TZID:Europe/Berlin
BEGIN:DAYLIGHT
TZOFFSETFROM:+0100
TZOFFSETTO:+0200
TZNAME:CEST
DTSTART:20250330T010000
END:DAYLIGHT
BEGIN:STANDARD
TZOFFSETFROM:+0200
TZOFFSETTO:+0100
TZNAME:CET
DTSTART:20251026T010000
END:STANDARD
END:VTIMEZONE
BEGIN:VEVENT
DTSTART;TZID=Europe/Berlin:20251221T160000
DTEND;TZID=Europe/Berlin:20251221T173000
DTSTAMP:20260422T181227
CREATED:20251216T143228Z
LAST-MODIFIED:20251216T143256Z
UID:1913-1766332800-1766338200@kulturmoehre.de
SUMMARY:Zaubertrank im Fackelschein in Mutterstadt
DESCRIPTION:Familien aufgepasst: ✨ Zaubertrank im Fackelschein ✨\n🗓 So\, 21.12. | 16:00–17:30 Uhr\n📍 Walderholung Mutterstadt \nGemeinsam mit der ganzen Familie folgen wir einem alten Rezept\, das Glück\, Kraft und Mut verspricht. Doch wie genau wird dieser Zaubertrank gebraut?\nDie Mithilfe aller ist gefragt! \nMit Wachsfackeln wandern wir durch das nächtliche Gelände und entdecken\, welche Geheimnisse der Wald im Dunkeln bereithält. Unterwegs stellen wir uns kleinen Aufgaben – und wer weiß\, vielleicht wartet am Ende noch eine kleine Überraschung\, bevor die letzte Fackel erlischt … ✨🌲 \n📩 Anmeldung: naturerlebnis@kulturmoehre.de oder per WhatsApp\n💶 Preis: 10 € pro Person inkl. Fackel | 8 € ohne Fackel \nEin besonderes Erlebnis für die ganze Familie am 4. Advent. 🔥🌙
URL:https://kulturmoehre.de/event/zaubertrank-im-fackelschein-in-mutterstadt/
ATTACH;FMTTYPE=image/png:https://kulturmoehre.de/wp-content/uploads/2025/12/Flyer-fuer-Verein-im-Grunge-Stil-in-Grau-Gelb-Braun_20251216_150506_0000.png
END:VEVENT
END:VCALENDAR