BEGIN:VCALENDAR
VERSION:2.0
PRODID:-// - ECPv6.13.2//NONSGML v1.0//EN
CALSCALE:GREGORIAN
METHOD:PUBLISH
X-ORIGINAL-URL:https://kulturmoehre.de
X-WR-CALDESC:Veranstaltungen für 
REFRESH-INTERVAL;VALUE=DURATION:PT1H
X-Robots-Tag:noindex
X-PUBLISHED-TTL:PT1H
BEGIN:VTIMEZONE
TZID:Europe/Berlin
BEGIN:DAYLIGHT
TZOFFSETFROM:+0100
TZOFFSETTO:+0200
TZNAME:CEST
DTSTART:20250330T010000
END:DAYLIGHT
BEGIN:STANDARD
TZOFFSETFROM:+0200
TZOFFSETTO:+0100
TZNAME:CET
DTSTART:20251026T010000
END:STANDARD
END:VTIMEZONE
BEGIN:VEVENT
DTSTART;TZID=Europe/Berlin:20251205T160000
DTEND;TZID=Europe/Berlin:20251205T181500
DTSTAMP:20260422T181046
CREATED:20250605T104937Z
LAST-MODIFIED:20250605T104958Z
UID:1896-1764950400-1764958500@kulturmoehre.de
SUMMARY:Kunst in der Natur: Schnitzen mit dem Taschenmesser (7-10 Jahre) | Schnitz- und Natur-Kunst-Kurs
DESCRIPTION:Entdecke die Kunst in der Natur und entfalte deine Kreativität beim Schnitzen mit dem Taschenmesser! Inmitten der inspirierenden Naturumgebung lernen wir\, wie wir mit einem einfachen Taschenmesser beeindruckende Kunstwerke schaffen können. Wir verwenden ausschließlich naturbelassenes Holz und andere Materialien\, die wir in der Umgebung finden. Ob kunstvoll geschnitzte Figuren\, kleine Skulpturen oder fantasievolle Anhänger – hier sind der Kreativität keine Grenzen gesetzt!\nDer Kurs findet draußen\, nur bei schönem Wetter\, statt. Wenn es regnen sollte\, verlegen wir den Kurs nach innen. In diesem Fall informieren wir euch vorher telefonisch.\nVorkenntnisse sind nicht nötig\, denn wir erlernen den richtigen Umgang mit dem Messer. Das benötigte Material ist in der Gebühr enthalten; ein Messer wird gestellt. \nGeben Sie bei der Anmeldung unbedingt eine Handy-Nummer an.\nBitte mitbringen: alte\, aber wetterfeste Kleidung. Unbedingt mit geschlossenen Schuhen und langer Hose erscheinen!
URL:https://kulturmoehre.de/event/kunst-in-der-natur-schnitzen-mit-dem-taschenmesser-7-10-jahre-schnitz-und-natur-kunst-kurs/
LOCATION:Bobenheim-Roxheim\, Werkraum
ATTACH;FMTTYPE=image/png:https://kulturmoehre.de/wp-content/uploads/2024/07/Schnitzkurs-fuer-Kinder-Jonathan-Danigel-kulturmoehre.de_.png
END:VEVENT
END:VCALENDAR