BEGIN:VCALENDAR
VERSION:2.0
PRODID:-// - ECPv6.13.2//NONSGML v1.0//EN
CALSCALE:GREGORIAN
METHOD:PUBLISH
X-ORIGINAL-URL:https://kulturmoehre.de
X-WR-CALDESC:Veranstaltungen für 
REFRESH-INTERVAL;VALUE=DURATION:PT1H
X-Robots-Tag:noindex
X-PUBLISHED-TTL:PT1H
BEGIN:VTIMEZONE
TZID:Europe/Berlin
BEGIN:DAYLIGHT
TZOFFSETFROM:+0100
TZOFFSETTO:+0200
TZNAME:CEST
DTSTART:20250330T010000
END:DAYLIGHT
BEGIN:STANDARD
TZOFFSETFROM:+0200
TZOFFSETTO:+0100
TZNAME:CET
DTSTART:20251026T010000
END:STANDARD
END:VTIMEZONE
BEGIN:VEVENT
DTSTART;TZID=Europe/Berlin:20251103T160000
DTEND;TZID=Europe/Berlin:20251103T181500
DTSTAMP:20260422T195057
CREATED:20250605T104016Z
LAST-MODIFIED:20250605T104016Z
UID:1885-1762185600-1762193700@kulturmoehre.de
SUMMARY:Ausstellungsprojekt (ab 8 Jahren)
DESCRIPTION:KinderKunst macht eine Ausstellung \nDiese KinderKunstWerkstatt wird besonders: Die älteren Kinder arbeiten wie bisher: malen\, zeichnen\, schnippeln\, kleben usw. Jonathan Danigel bringt Ideen für euch mit. Wenn ihr etwas anderes arbeiten wollt – in einer anderen Technik oder zu einem anderen Thema – hilft er euch\, diese Ideen umzusetzen.\nABER: Diesmal wollen wir unsere Werke ausstellen – am Freitag\, dem 21.11.2025\, um 17:45 Uhr. Dann gibt es eine kleiner Vernissage\, das ist eine Ausstellungseröffnung. Da können dann eure Eltern\, Großeltern\, Geschwister und und und kommen und sehen\, welche tolle Kunstwerke ihr gemacht habt. \nWir bitten um eine Anmeldung. Danke!\nBitte mitbringen: einen Malkittel (z.B. ein altes Oberhemd) und tragt alte Kleidung. Es fallen Materialkosten von 7\,00 €/Termin an. \nInfos und Anmeldung unter: VHS Rhein-Pfalz-Kreis: Startseite (vhs-rpk.de)
URL:https://kulturmoehre.de/event/ausstellungsprojekt-ab-8-jahren/
LOCATION:VHS Schifferstadt\, Neustückweg 2\, Schifferstadt\, 67105
ATTACH;FMTTYPE=image/jpeg:https://kulturmoehre.de/wp-content/uploads/2025/06/Lucid_Realism_QuerformatEin_heller_freundlicher_Ausstellungsra_2.jpg
END:VEVENT
END:VCALENDAR